BEGIN:VCALENDAR
VERSION:2.0
PRODID:-//Canadian Association of Medical Radiation Technologists - ECPv6.15.20//NONSGML v1.0//EN
CALSCALE:GREGORIAN
METHOD:PUBLISH
X-ORIGINAL-URL:https://camrt.ca
X-WR-CALDESC:Events for Canadian Association of Medical Radiation Technologists
REFRESH-INTERVAL;VALUE=DURATION:PT1H
X-Robots-Tag:noindex
X-PUBLISHED-TTL:PT1H
BEGIN:VTIMEZONE
TZID:America/Toronto
BEGIN:DAYLIGHT
TZOFFSETFROM:-0500
TZOFFSETTO:-0400
TZNAME:EDT
DTSTART:20240310T070000
END:DAYLIGHT
BEGIN:STANDARD
TZOFFSETFROM:-0400
TZOFFSETTO:-0500
TZNAME:EST
DTSTART:20241103T060000
END:STANDARD
BEGIN:DAYLIGHT
TZOFFSETFROM:-0500
TZOFFSETTO:-0400
TZNAME:EDT
DTSTART:20250309T070000
END:DAYLIGHT
BEGIN:STANDARD
TZOFFSETFROM:-0400
TZOFFSETTO:-0500
TZNAME:EST
DTSTART:20251102T060000
END:STANDARD
BEGIN:DAYLIGHT
TZOFFSETFROM:-0500
TZOFFSETTO:-0400
TZNAME:EDT
DTSTART:20260308T070000
END:DAYLIGHT
BEGIN:STANDARD
TZOFFSETFROM:-0400
TZOFFSETTO:-0500
TZNAME:EST
DTSTART:20261101T060000
END:STANDARD
END:VTIMEZONE
BEGIN:VEVENT
DTSTART;VALUE=DATE:20251129
DTEND;VALUE=DATE:20251205
DTSTAMP:20260423T113814
CREATED:20250829T210025Z
LAST-MODIFIED:20250829T210213Z
UID:47769-1764374400-1764892799@camrt.ca
SUMMARY:RSNA Annual Meeting
DESCRIPTION:RSNA Annual Meeting \nNovember 29-December 4\, 2025 \nChicago\, IL \nMore Information
URL:https://camrt.ca/event/rsna-annual-meeting/
LOCATION:Chicago\, IL\, Chicago\, IL\, United States
END:VEVENT
BEGIN:VEVENT
DTSTART;VALUE=DATE:20251025
DTEND;VALUE=DATE:20251026
DTSTAMP:20260423T113814
CREATED:20250829T205920Z
LAST-MODIFIED:20250829T205920Z
UID:47767-1761350400-1761436799@camrt.ca
SUMMARY:The Current 2025
DESCRIPTION:Save the date! \nThe Current 2025 \nOctober 25\, 2025 \nThe Rodd Charlottetown \n75 Kent St\, Charlottetown\, PEI C1A 7K4 \nDetails and rates to be released in early 2025. \nMore Info
URL:https://camrt.ca/event/the-current-2025/
LOCATION:The Rodd Charlottetown\, 75 Kent St\, Charlottetown\, PEI\, C1A 7K4\, Canada
END:VEVENT
BEGIN:VEVENT
DTSTART;VALUE=DATE:20251018
DTEND;VALUE=DATE:20251019
DTSTAMP:20260423T113814
CREATED:20250829T205703Z
LAST-MODIFIED:20250829T205730Z
UID:47765-1760745600-1760831999@camrt.ca
SUMMARY:The Summit 2025
DESCRIPTION:Save the date! \nThe Summit 2025 \nOctober 18\, 2025 \nHilton Metrotown Vancouver \n6083 McKay Avenue Burnaby\, British Columbia V5H 2W7 \nDetails and rates to be released in early 2025. \nMore Info
URL:https://camrt.ca/event/the-summit-2025/
LOCATION:Hilton Metrotown Vancouver\, 6083 Mckay Avenue\, Burnaby\, BC\, V5H 2W7\, Canada
END:VEVENT
BEGIN:VEVENT
DTSTART;VALUE=DATE:20251001
DTEND;VALUE=DATE:20251004
DTSTAMP:20260423T113814
CREATED:20250829T205528Z
LAST-MODIFIED:20251027T160732Z
UID:47763-1759276800-1759535999@camrt.ca
SUMMARY:OARM Annual Conference
DESCRIPTION:OARM Annual Conference \nOctober 1-3\, 2025 \nNiagara on the Lake\, ON \nMore information to come
URL:https://camrt.ca/event/oarm-annual-conference/
LOCATION:Niagara on the Lake\, Niagara on the Lake\, Ontario\, Canada
END:VEVENT
BEGIN:VEVENT
DTSTART;VALUE=DATE:20250928
DTEND;VALUE=DATE:20251001
DTSTAMP:20260423T113814
CREATED:20250829T202915Z
LAST-MODIFIED:20250829T202928Z
UID:47748-1759017600-1759276799@camrt.ca
SUMMARY:ASRT Radiation Therapy Conference
DESCRIPTION:ASRT Radiation Therapy Conference \nSeptember 28-30\, 2025 \nSan Francisco\, CA \nMore Information
URL:https://camrt.ca/event/asrt-radiation-therapy-conference/
LOCATION:San Francisco\, CA\, San Francisco\, CA\, United States
END:VEVENT
END:VCALENDAR