BEGIN:VCALENDAR
VERSION:2.0
PRODID:-//Canadian Association of Medical Radiation Technologists - ECPv6.15.20//NONSGML v1.0//EN
CALSCALE:GREGORIAN
METHOD:PUBLISH
X-WR-CALNAME:Canadian Association of Medical Radiation Technologists
X-ORIGINAL-URL:https://camrt.ca
X-WR-CALDESC:Events for Canadian Association of Medical Radiation Technologists
REFRESH-INTERVAL;VALUE=DURATION:PT1H
X-Robots-Tag:noindex
X-PUBLISHED-TTL:PT1H
BEGIN:VTIMEZONE
TZID:America/Toronto
BEGIN:DAYLIGHT
TZOFFSETFROM:-0500
TZOFFSETTO:-0400
TZNAME:EDT
DTSTART:20240310T070000
END:DAYLIGHT
BEGIN:STANDARD
TZOFFSETFROM:-0400
TZOFFSETTO:-0500
TZNAME:EST
DTSTART:20241103T060000
END:STANDARD
BEGIN:DAYLIGHT
TZOFFSETFROM:-0500
TZOFFSETTO:-0400
TZNAME:EDT
DTSTART:20250309T070000
END:DAYLIGHT
BEGIN:STANDARD
TZOFFSETFROM:-0400
TZOFFSETTO:-0500
TZNAME:EST
DTSTART:20251102T060000
END:STANDARD
BEGIN:DAYLIGHT
TZOFFSETFROM:-0500
TZOFFSETTO:-0400
TZNAME:EDT
DTSTART:20260308T070000
END:DAYLIGHT
BEGIN:STANDARD
TZOFFSETFROM:-0400
TZOFFSETTO:-0500
TZNAME:EST
DTSTART:20261101T060000
END:STANDARD
END:VTIMEZONE
BEGIN:VEVENT
DTSTART;VALUE=DATE:20251129
DTEND;VALUE=DATE:20251205
DTSTAMP:20260425T182913
CREATED:20250829T210025Z
LAST-MODIFIED:20250829T210213Z
UID:47769-1764374400-1764892799@camrt.ca
SUMMARY:RSNA Annual Meeting
DESCRIPTION:RSNA Annual Meeting \nNovember 29-December 4\, 2025 \nChicago\, IL \nMore Information
URL:https://camrt.ca/event/rsna-annual-meeting/
LOCATION:Chicago\, IL\, Chicago\, IL\, United States
END:VEVENT
END:VCALENDAR