BEGIN:VCALENDAR
VERSION:2.0
PRODID:-//Canadian Association of Medical Radiation Technologists - ECPv6.15.20//NONSGML v1.0//EN
CALSCALE:GREGORIAN
METHOD:PUBLISH
X-WR-CALNAME:Canadian Association of Medical Radiation Technologists
X-ORIGINAL-URL:https://camrt.ca
X-WR-CALDESC:Events for Canadian Association of Medical Radiation Technologists
REFRESH-INTERVAL;VALUE=DURATION:PT1H
X-Robots-Tag:noindex
X-PUBLISHED-TTL:PT1H
BEGIN:VTIMEZONE
TZID:America/Toronto
BEGIN:DAYLIGHT
TZOFFSETFROM:-0500
TZOFFSETTO:-0400
TZNAME:EDT
DTSTART:20240310T070000
END:DAYLIGHT
BEGIN:STANDARD
TZOFFSETFROM:-0400
TZOFFSETTO:-0500
TZNAME:EST
DTSTART:20241103T060000
END:STANDARD
BEGIN:DAYLIGHT
TZOFFSETFROM:-0500
TZOFFSETTO:-0400
TZNAME:EDT
DTSTART:20250309T070000
END:DAYLIGHT
BEGIN:STANDARD
TZOFFSETFROM:-0400
TZOFFSETTO:-0500
TZNAME:EST
DTSTART:20251102T060000
END:STANDARD
BEGIN:DAYLIGHT
TZOFFSETFROM:-0500
TZOFFSETTO:-0400
TZNAME:EDT
DTSTART:20260308T070000
END:DAYLIGHT
BEGIN:STANDARD
TZOFFSETFROM:-0400
TZOFFSETTO:-0500
TZNAME:EST
DTSTART:20261101T060000
END:STANDARD
END:VTIMEZONE
BEGIN:VEVENT
DTSTART;VALUE=DATE:20251025
DTEND;VALUE=DATE:20251026
DTSTAMP:20260425T200633
CREATED:20250829T205920Z
LAST-MODIFIED:20250829T205920Z
UID:47767-1761350400-1761436799@camrt.ca
SUMMARY:The Current 2025
DESCRIPTION:Save the date! \nThe Current 2025 \nOctober 25\, 2025 \nThe Rodd Charlottetown \n75 Kent St\, Charlottetown\, PEI C1A 7K4 \nDetails and rates to be released in early 2025. \nMore Info
URL:https://camrt.ca/event/the-current-2025/
LOCATION:The Rodd Charlottetown\, 75 Kent St\, Charlottetown\, PEI\, C1A 7K4\, Canada
END:VEVENT
END:VCALENDAR